BEGIN:VCALENDAR
VERSION:2.0
PRODID:-//CiviCRM//NONSGML CiviEvent iCal//EN
METHOD:PUBLISH

BEGIN:VEVENT
UID:CiviCRM_EventID_1060_d8377d3e5001101f7b411f23edeed86d@uscj-dev.pelias.cividesk.net
SUMMARY:YALA Spring 2026 Shabbaton
DESCRIPTION:\n 
CATEGORIES:Conference
CALSCALE:GREGORIAN
TZID:America/New_York
DTSTAMP;TZID=America/New_York:20260424T160000
DTSTART;TZID=America/New_York:20260424T160000
DTEND;TZID=America/New_York:20260426T120000
LOCATION:Hilton City Ave.\n 4200 City Avenue\n Philadelphia
 \, PA 19131\n United States\n 
URL:https://uscj-dev.pelias.cividesk.net/civicrm/event/info?reset=1&id=1060
END:VEVENT
END:VCALENDAR
