BEGIN:VCALENDAR
VERSION:2.0
PRODID:-//CiviCRM//NONSGML CiviEvent iCal//EN
METHOD:PUBLISH

BEGIN:VEVENT
UID:CiviCRM_EventID_1069_d8377d3e5001101f7b411f23edeed86d@uscj-dev.pelias.cividesk.net
SUMMARY:Unlocking the Power of Synagogue Committees (dayti
 me)
DESCRIPTION:\n \n Join synagogue leaders from across the conti
 nent for a workshop focused on strengthening commi
 ttees as powerful partners in governance and leade
 rship. Together\, we’ll explore best practices for
  committee engagement and management while taking 
 a look at the human and financial resources availa
 ble in your congregation.\n \n \n \n This interact
 ive session is designed for board members\, clergy
 \, professional staff\, and committee leaders. Par
 ticipants will reflect on current practices\, iden
 tify concrete next steps\, and gain tools to help 
 committees function as effective working groups of
  the board. You’ll leave with shared language\, pr
 actical resources\, and access to coaching support
  to help turn ideas into action.\n \n \n \n \n \n 
CATEGORIES:Workshop
CALSCALE:GREGORIAN
TZID:America/New_York
DTSTAMP;TZID=America/New_York:20260519T140000
DTSTART;TZID=America/New_York:20260519T140000
DTEND;TZID=America/New_York:20260519T153000
ORGANIZER:MAILTO:sussman@uscj.org
URL:https://uscj-dev.pelias.cividesk.net/civicrm/event/info?reset=1&id=1069
END:VEVENT
END:VCALENDAR
