BEGIN:VCALENDAR
VERSION:2.0
PRODID:-//CiviCRM//NONSGML CiviEvent iCal//EN
METHOD:PUBLISH

BEGIN:VEVENT
UID:CiviCRM_EventID_1075_d8377d3e5001101f7b411f23edeed86d@uscj-dev.pelias.cividesk.net
SUMMARY:ADL's Strategic Messaging to Combat Antisemitism
DESCRIPTION:Antisemitic incidents have increased by 344% over 
 the past five years\, and they continue to rise. O
 ur community needs leaders who can navigate challe
 nging conversations and respond effectively. The k
 ey to making real change is knowing what to say an
 d how to say it.\n \n \n \n Grounded in years of q
 uantitative research\, the ADL Center for Antisemi
 tism Research has discovered evidence-based strate
 gies proven to help you:\n \n \n \n \n 	\n 	Naviga
 te conversations through messaging and communicati
 ons\n \n \n 	\n 	\n 	Craft messages that change mi
 nds using effective approaches and principles\n \n
  \n 	\n 	\n 	Engage communities through practical 
 skills and strategic storytelling methods\n \n \n 
 	\n 	\n 	Counter antisemitism effectively in your 
 community and online spaces\n \n \n 	\n 	\n 	Lead 
 with confidence during difficult conversations\, f
 ostering understanding and inclusivity\n \n \n 	\n
  \n \n This ADL presentation\, Communications Stra
 tegies for Combating Antisemitism\, shares data-dr
 iven\, effective frameworks and strategic language
  that have been proven to persuade audiences and e
 xplains why traditional responses often fail. This
  presentation focuses on the extensive research an
 d evidence providing interventions to reduce preju
 dice and antisemitic beliefs\, build allyship\, an
 d increase support for policies that will bolster 
 the Jewish community.\n \n \n \n This webinar is c
 o-sponsored by the Jewish Educators Assembly and t
 he USCJ.\n \n 
CATEGORIES:Webinar
CALSCALE:GREGORIAN
TZID:America/New_York
DTSTAMP;TZID=America/New_York:20260428T130000
DTSTART;TZID=America/New_York:20260428T130000
DTEND;TZID=America/New_York:20260428T140000
URL:https://uscj-dev.pelias.cividesk.net/civicrm/event/info?reset=1&id=1075
END:VEVENT
END:VCALENDAR
